BEGIN:VCALENDAR
VERSION:2.0
PRODID:-//Make It and Keep It - ECPv6.15.1.1//NONSGML v1.0//EN
CALSCALE:GREGORIAN
METHOD:PUBLISH
X-ORIGINAL-URL:https://makeitandkeepit.com
X-WR-CALDESC:Events for Make It and Keep It
REFRESH-INTERVAL;VALUE=DURATION:PT1H
X-Robots-Tag:noindex
X-PUBLISHED-TTL:PT1H
BEGIN:VTIMEZONE
TZID:America/New_York
BEGIN:DAYLIGHT
TZOFFSETFROM:-0500
TZOFFSETTO:-0400
TZNAME:EDT
DTSTART:20170312T070000
END:DAYLIGHT
BEGIN:STANDARD
TZOFFSETFROM:-0400
TZOFFSETTO:-0500
TZNAME:EST
DTSTART:20171105T060000
END:STANDARD
BEGIN:DAYLIGHT
TZOFFSETFROM:-0500
TZOFFSETTO:-0400
TZNAME:EDT
DTSTART:20180311T070000
END:DAYLIGHT
BEGIN:STANDARD
TZOFFSETFROM:-0400
TZOFFSETTO:-0500
TZNAME:EST
DTSTART:20181104T060000
END:STANDARD
END:VTIMEZONE
BEGIN:VTIMEZONE
TZID:America/Los_Angeles
BEGIN:DAYLIGHT
TZOFFSETFROM:-0800
TZOFFSETTO:-0700
TZNAME:PDT
DTSTART:20170312T100000
END:DAYLIGHT
BEGIN:STANDARD
TZOFFSETFROM:-0700
TZOFFSETTO:-0800
TZNAME:PST
DTSTART:20171105T090000
END:STANDARD
END:VTIMEZONE
BEGIN:VEVENT
DTSTART;TZID=America/New_York:20180124T210000
DTEND;TZID=America/New_York:20180124T230000
DTSTAMP:20260424T093512
CREATED:20180108T193159Z
LAST-MODIFIED:20180108T193324Z
UID:6173-1516827600-1516834800@makeitandkeepit.com
SUMMARY:Prosperity Society - Mastermind 9-11 PM EST
DESCRIPTION:
URL:https://makeitandkeepit.com/event/prosperity-society-mastermind-9-11-pm-est/
END:VEVENT
BEGIN:VEVENT
DTSTART;TZID=America/New_York:20180123T210000
DTEND;TZID=America/New_York:20180123T230000
DTSTAMP:20260424T093512
CREATED:20171123T031835Z
LAST-MODIFIED:20180108T192552Z
UID:3437-1516741200-1516748400@makeitandkeepit.com
SUMMARY:Q & A - 9:00-11:00 pm EST
DESCRIPTION:
URL:https://makeitandkeepit.com/event/q-a-900-1100-pm-est-2/
END:VEVENT
BEGIN:VEVENT
DTSTART;VALUE=DATE:20180115
DTEND;VALUE=DATE:20180116
DTSTAMP:20260424T093512
CREATED:20161222T145615Z
LAST-MODIFIED:20180108T193955Z
UID:1597-1515974400-1516060799@makeitandkeepit.com
SUMMARY:Market Closed - Martin Luther King
DESCRIPTION:
URL:https://makeitandkeepit.com/event/market-closed-martin-luther-king/
END:VEVENT
BEGIN:VEVENT
DTSTART;TZID=America/New_York:20180111T213000
DTEND;TZID=America/New_York:20180111T233000
DTSTAMP:20260424T093512
CREATED:20171123T032350Z
LAST-MODIFIED:20180108T190943Z
UID:3441-1515706200-1515713400@makeitandkeepit.com
SUMMARY:Q & A - 9:30-11:30 pm EST
DESCRIPTION:
URL:https://makeitandkeepit.com/event/q-a-930-1130-pm-est-2/
END:VEVENT
BEGIN:VEVENT
DTSTART;TZID=America/New_York:20180109T210000
DTEND;TZID=America/New_York:20180109T230000
DTSTAMP:20260424T093512
CREATED:20171123T032453Z
LAST-MODIFIED:20171229T070828Z
UID:3443-1515531600-1515538800@makeitandkeepit.com
SUMMARY:Q & A - 9:00-11:00 pm EST
DESCRIPTION:
URL:https://makeitandkeepit.com/event/q-a-900-1100-pm-est/
END:VEVENT
BEGIN:VEVENT
DTSTART;VALUE=DATE:20171120
DTEND;VALUE=DATE:20171125
DTSTAMP:20260424T093512
CREATED:20161222T145513Z
LAST-MODIFIED:20161222T145513Z
UID:1595-1511136000-1511567999@makeitandkeepit.com
SUMMARY:Trading Pit Closed
DESCRIPTION:Happy Thanksgiving
URL:https://makeitandkeepit.com/event/trading-pit-closed-2/
END:VEVENT
BEGIN:VEVENT
DTSTART;TZID=America/Los_Angeles:20171025T063000
DTEND;TZID=America/Los_Angeles:20171027T073000
DTSTAMP:20260424T093512
CREATED:20171023T032538Z
LAST-MODIFIED:20171023T032538Z
UID:3363-1508913000-1509089400@makeitandkeepit.com
SUMMARY:Trading Pit Closed
DESCRIPTION:
URL:https://makeitandkeepit.com/event/trading-pit-closed-11/
END:VEVENT
BEGIN:VEVENT
DTSTART;TZID=America/New_York:20171017T160000
DTEND;TZID=America/New_York:20171017T160000
DTSTAMP:20260424T093512
CREATED:20170725T082154Z
LAST-MODIFIED:20171006T020943Z
UID:3186-1508256000-1508256000@makeitandkeepit.com
SUMMARY:Earnings-GS
DESCRIPTION:
URL:https://makeitandkeepit.com/event/earnings-gs/
END:VEVENT
BEGIN:VEVENT
DTSTART;TZID=America/New_York:20171016T063000
DTEND;TZID=America/New_York:20171020T073000
DTSTAMP:20260424T093512
CREATED:20170725T152722Z
LAST-MODIFIED:20171006T021642Z
UID:3200-1508135400-1508484600@makeitandkeepit.com
SUMMARY:Trading Pit Closed
DESCRIPTION:
URL:https://makeitandkeepit.com/event/trading-pit-closed-10/
END:VEVENT
BEGIN:VEVENT
DTSTART;TZID=America/New_York:20171013T080000
DTEND;TZID=America/New_York:20171013T080000
DTSTAMP:20260424T093512
CREATED:20170107T012411Z
LAST-MODIFIED:20171006T020838Z
UID:1816-1507881600-1507881600@makeitandkeepit.com
SUMMARY:Earnings:  BAC / WFC
DESCRIPTION:  \n 
URL:https://makeitandkeepit.com/event/earnings-bac-wfc/
END:VEVENT
BEGIN:VEVENT
DTSTART;TZID=America/Los_Angeles:20171012T160000
DTEND;TZID=America/Los_Angeles:20171012T160000
DTSTAMP:20260424T093512
CREATED:20170725T082006Z
LAST-MODIFIED:20171006T021035Z
UID:3182-1507824000-1507824000@makeitandkeepit.com
SUMMARY:Earnings-JPM
DESCRIPTION:
URL:https://makeitandkeepit.com/event/earnings-jpm/
END:VEVENT
BEGIN:VEVENT
DTSTART;TZID=America/New_York:20170815T130000
DTEND;TZID=America/New_York:20170815T140000
DTSTAMP:20260424T093512
CREATED:20170803T113633Z
LAST-MODIFIED:20170808T125517Z
UID:3227-1502802000-1502805600@makeitandkeepit.com
SUMMARY:Wage To Wealth Orientation Presentation
DESCRIPTION:This Webinar is aimed to launch our new Wage to Wealth Challenge to help you learn the best approach for you to manage your own money and build wealth. \nI will present an outline and will answer any questions you may have\, and please feel free to send in questions to member@makeitandkeepit.com or post them on the Make it and keep it facebook fan page. \nPresentation from 1 PM to 2 PM EST
URL:https://makeitandkeepit.com/event/wage-to-wealth-challenge-webinar/
END:VEVENT
BEGIN:VEVENT
DTSTART;TZID=America/New_York:20170810T200000
DTEND;TZID=America/New_York:20170810T220000
DTSTAMP:20260424T093512
CREATED:20170803T112819Z
LAST-MODIFIED:20170808T125738Z
UID:3225-1502395200-1502402400@makeitandkeepit.com
SUMMARY:Prosperity Society Webinar
DESCRIPTION:
URL:https://makeitandkeepit.com/event/prosperity-society-webinar/
END:VEVENT
BEGIN:VEVENT
DTSTART;VALUE=DATE:20170526
DTEND;VALUE=DATE:20170527
DTSTAMP:20260424T093512
CREATED:20170418T143644Z
LAST-MODIFIED:20170418T143644Z
UID:2960-1495756800-1495843199@makeitandkeepit.com
SUMMARY:Trading Pit Closed
DESCRIPTION:
URL:https://makeitandkeepit.com/event/trading-pit-closed-9/
END:VEVENT
BEGIN:VEVENT
DTSTART;TZID=America/New_York:20170509T160000
DTEND;TZID=America/New_York:20170509T160000
DTSTAMP:20260424T093512
CREATED:20170418T135650Z
LAST-MODIFIED:20170418T135855Z
UID:2954-1494345600-1494345600@makeitandkeepit.com
SUMMARY:Earnings - PCLN / NVDA
DESCRIPTION:
URL:https://makeitandkeepit.com/event/earnings-pcln-nvda/
END:VEVENT
BEGIN:VEVENT
DTSTART;TZID=America/New_York:20170502T160000
DTEND;TZID=America/New_York:20170502T160000
DTSTAMP:20260424T093512
CREATED:20170418T135047Z
LAST-MODIFIED:20170418T135047Z
UID:2945-1493740800-1493740800@makeitandkeepit.com
SUMMARY:Earnings - AAPL
DESCRIPTION:
URL:https://makeitandkeepit.com/event/earnings-aapl-2/
END:VEVENT
BEGIN:VEVENT
DTSTART;TZID=America/New_York:20170427T160000
DTEND;TZID=America/New_York:20170427T160000
DTSTAMP:20260424T093512
CREATED:20170418T134917Z
LAST-MODIFIED:20170418T135738Z
UID:2943-1493308800-1493308800@makeitandkeepit.com
SUMMARY:Earnings - AMZN / BIDU / GOOGL
DESCRIPTION:
URL:https://makeitandkeepit.com/event/earnings-amzn-bidu-googl/
END:VEVENT
BEGIN:VEVENT
DTSTART;VALUE=DATE:20170421
DTEND;VALUE=DATE:20170422
DTSTAMP:20260424T093512
CREATED:20170418T140011Z
LAST-MODIFIED:20170418T140011Z
UID:2958-1492732800-1492819199@makeitandkeepit.com
SUMMARY:Trading Pit Closed
DESCRIPTION:
URL:https://makeitandkeepit.com/event/trading-pit-closed-8/
END:VEVENT
BEGIN:VEVENT
DTSTART;VALUE=DATE:20170417
DTEND;VALUE=DATE:20170418
DTSTAMP:20260424T093512
CREATED:20170401T175049Z
LAST-MODIFIED:20170401T175400Z
UID:2900-1492387200-1492473599@makeitandkeepit.com
SUMMARY:Trading Pit Closed
DESCRIPTION:
URL:https://makeitandkeepit.com/event/trading-pit-closed-6/
END:VEVENT
BEGIN:VEVENT
DTSTART;VALUE=DATE:20170414
DTEND;VALUE=DATE:20170415
DTSTAMP:20260424T093512
CREATED:20161222T144815Z
LAST-MODIFIED:20161222T144815Z
UID:1583-1492128000-1492214399@makeitandkeepit.com
SUMMARY:Market Closed
DESCRIPTION:
URL:https://makeitandkeepit.com/event/market-closed-4/
END:VEVENT
BEGIN:VEVENT
DTSTART;VALUE=DATE:20170413
DTEND;VALUE=DATE:20170414
DTSTAMP:20260424T093512
CREATED:20170401T175138Z
LAST-MODIFIED:20170401T175251Z
UID:2902-1492041600-1492127999@makeitandkeepit.com
SUMMARY:Trading Pit Closed
DESCRIPTION:
URL:https://makeitandkeepit.com/event/trading-pit-closed-7/
END:VEVENT
BEGIN:VEVENT
DTSTART;TZID=America/New_York:20170330T093000
DTEND;TZID=America/New_York:20170330T170000
DTSTAMP:20260424T093512
CREATED:20170329T103013Z
LAST-MODIFIED:20170329T103013Z
UID:2897-1490866200-1490893200@makeitandkeepit.com
SUMMARY:Trading Pit Closed
DESCRIPTION:
URL:https://makeitandkeepit.com/event/trading-pit-closed-5/
END:VEVENT
BEGIN:VEVENT
DTSTART;TZID=America/New_York:20170227T160000
DTEND;TZID=America/New_York:20170227T163000
DTSTAMP:20260424T093512
CREATED:20161223T173509Z
LAST-MODIFIED:20170216T090837Z
UID:1627-1488211200-1488213000@makeitandkeepit.com
SUMMARY:Earnings - PCLN
DESCRIPTION:
URL:https://makeitandkeepit.com/event/earnings-pcln/
END:VEVENT
BEGIN:VEVENT
DTSTART;TZID=America/New_York:20170223T150000
DTEND;TZID=America/New_York:20170223T154500
DTSTAMP:20260424T093512
CREATED:20161223T173737Z
LAST-MODIFIED:20161223T173737Z
UID:1629-1487862000-1487864700@makeitandkeepit.com
SUMMARY:Earnings - BIDU
DESCRIPTION:
URL:https://makeitandkeepit.com/event/earnings-bidu/
END:VEVENT
BEGIN:VEVENT
DTSTART;TZID=America/New_York:20170222T153000
DTEND;TZID=America/New_York:20170222T163000
DTSTAMP:20260424T093512
CREATED:20170206T050702Z
LAST-MODIFIED:20170206T050702Z
UID:2368-1487777400-1487781000@makeitandkeepit.com
SUMMARY:Earnings: TSLA
DESCRIPTION:
URL:https://makeitandkeepit.com/event/earnings-tsla-2/
END:VEVENT
BEGIN:VEVENT
DTSTART;TZID=America/New_York:20170213T210000
DTEND;TZID=America/New_York:20170213T230000
DTSTAMP:20260424T093512
CREATED:20170211T002907Z
LAST-MODIFIED:20170211T003004Z
UID:2378-1487019600-1487026800@makeitandkeepit.com
SUMMARY:Member Q & A
DESCRIPTION:We will be having a Q & A Webinar this Monday evening at 6 PM PST\, 8 PM CST\, 9PM EST. \nWe will be having these Q&A webinars on a weekly basis (usually on Monday – check calendar on website) as I am concerned that too many of you on this list (even if only one of you) have not been trading or having questions and need a little extra support. These Q&As are to help answer your questions and get you up and going with your trading. \nFor those of you who have not done so\, please log in to the NEW rebuilt website at MAKEITANDKEEPIT.COM and make sure your password is working properly.  If you have a problem then you will have the opportunity to reset your password.  You will find the new website much more engaging and I would appreciate any feedback you may have to improve it. \nAlso please register on the Facebook group page for Make It and Keep It and those of you who are eligible please make sure you have also requested entry to the FB Prosperity Society page. \nThe articles on the NEW site are being updated to be more accurate for today’s market and the MAKE IT AND KEEP IT book series is being rewritten and they should begin re-release in the next couple of months.  \nI will be adding your names and email addresses to AWeber to facilitate quicker and better email delivery\, so please make sure that you unblock Member@makeitandkeepit.com from your spam rules. \nFor those of you who are willing to record an audio testimonial or send in a written one I would appreciate it. \nMy goal is that everyone who takes my courses is able to utilize them and make money\, but if you do not practice and you have questions and you do not let me know then I cannot help. I need everyone to come to the Q&A and ask questions and please send me suggestions on improving the website and how we can help you better.  I will review each and every suggestion and I will try to incorporate as many suggestions as I can. \nPlease email me and let me know if you are planning on joining the Wealth Starter Trading Pit (the Trading Pit for the closing hour of the market) on Tuesday\, Wednesday and Thursday). The Time will be 3PM EST to 4PM EST.  The code will be posted on the NEW Make it and Keep it site under those who have been granted access.  If you would like access to this service I must receive an email from you to include you to this service. \nThank you and talk to you on Monday\,\nLouis
URL:https://makeitandkeepit.com/event/member-q-a/
CATEGORIES:Calendar
END:VEVENT
BEGIN:VEVENT
DTSTART;TZID=America/New_York:20170209T150000
DTEND;TZID=America/New_York:20170209T154500
DTSTAMP:20260424T093512
CREATED:20161223T174126Z
LAST-MODIFIED:20170206T050547Z
UID:1635-1486652400-1486655100@makeitandkeepit.com
SUMMARY:Earnings: TWTR  am
DESCRIPTION:TWTR – Reports Before Market Open
URL:https://makeitandkeepit.com/event/earnings-tsla/
END:VEVENT
BEGIN:VEVENT
DTSTART;TZID=America/New_York:20170202T150000
DTEND;TZID=America/New_York:20170202T154500
DTSTAMP:20260424T093512
CREATED:20161223T174026Z
LAST-MODIFIED:20170120T130440Z
UID:1633-1486047600-1486050300@makeitandkeepit.com
SUMMARY:Earnings - CMG /  AMZN
DESCRIPTION:
URL:https://makeitandkeepit.com/event/earnings-cmg/
END:VEVENT
BEGIN:VEVENT
DTSTART;TZID=America/New_York:20170131T153000
DTEND;TZID=America/New_York:20170131T153000
DTSTAMP:20260424T093512
CREATED:20161223T171651Z
LAST-MODIFIED:20170120T140855Z
UID:1619-1485876600-1485876600@makeitandkeepit.com
SUMMARY:Earnings - AAPL
DESCRIPTION:
URL:https://makeitandkeepit.com/event/earnings-aapl/
END:VEVENT
BEGIN:VEVENT
DTSTART;TZID=America/New_York:20170131T093000
DTEND;TZID=America/New_York:20170203T103000
DTSTAMP:20260424T093512
CREATED:20161222T144642Z
LAST-MODIFIED:20170130T131520Z
UID:1581-1485855000-1486117800@makeitandkeepit.com
SUMMARY:Trading Pit Closed
DESCRIPTION:
URL:https://makeitandkeepit.com/event/trading-pit-closed/
END:VEVENT
END:VCALENDAR