BEGIN:VCALENDAR
VERSION:2.0
PRODID:-//Make It and Keep It - ECPv6.15.1.1//NONSGML v1.0//EN
CALSCALE:GREGORIAN
METHOD:PUBLISH
X-ORIGINAL-URL:https://makeitandkeepit.com
X-WR-CALDESC:Events for Make It and Keep It
REFRESH-INTERVAL;VALUE=DURATION:PT1H
X-Robots-Tag:noindex
X-PUBLISHED-TTL:PT1H
BEGIN:VTIMEZONE
TZID:America/New_York
BEGIN:DAYLIGHT
TZOFFSETFROM:-0500
TZOFFSETTO:-0400
TZNAME:EDT
DTSTART:20180311T070000
END:DAYLIGHT
BEGIN:STANDARD
TZOFFSETFROM:-0400
TZOFFSETTO:-0500
TZNAME:EST
DTSTART:20181104T060000
END:STANDARD
BEGIN:DAYLIGHT
TZOFFSETFROM:-0500
TZOFFSETTO:-0400
TZNAME:EDT
DTSTART:20190310T070000
END:DAYLIGHT
BEGIN:STANDARD
TZOFFSETFROM:-0400
TZOFFSETTO:-0500
TZNAME:EST
DTSTART:20191103T060000
END:STANDARD
END:VTIMEZONE
BEGIN:VTIMEZONE
TZID:America/Los_Angeles
BEGIN:DAYLIGHT
TZOFFSETFROM:-0800
TZOFFSETTO:-0700
TZNAME:PDT
DTSTART:20180311T100000
END:DAYLIGHT
BEGIN:STANDARD
TZOFFSETFROM:-0700
TZOFFSETTO:-0800
TZNAME:PST
DTSTART:20181104T090000
END:STANDARD
END:VTIMEZONE
BEGIN:VEVENT
DTSTART;VALUE=DATE:20181225
DTEND;VALUE=DATE:20181226
DTSTAMP:20260423T135701
CREATED:20161222T144046Z
LAST-MODIFIED:20180108T211717Z
UID:1575-1545696000-1545782399@makeitandkeepit.com
SUMMARY:Market Closed
DESCRIPTION:Merry Christmas
URL:https://makeitandkeepit.com/event/market-closed/
END:VEVENT
BEGIN:VEVENT
DTSTART;VALUE=DATE:20181221
DTEND;VALUE=DATE:20190103
DTSTAMP:20260423T135701
CREATED:20161222T145740Z
LAST-MODIFIED:20180108T211052Z
UID:1599-1545350400-1546473599@makeitandkeepit.com
SUMMARY:Trading Pit Closed
DESCRIPTION:Merry Christmas and Happy New Year
URL:https://makeitandkeepit.com/event/trading-pit-closed-3/
END:VEVENT
BEGIN:VEVENT
DTSTART;TZID=America/New_York:20181218T080000
DTEND;TZID=America/New_York:20181219T170000
DTSTAMP:20260423T135701
CREATED:20170130T131652Z
LAST-MODIFIED:20180108T210232Z
UID:2349-1545120000-1545238800@makeitandkeepit.com
SUMMARY:Fed Meeting
DESCRIPTION:
URL:https://makeitandkeepit.com/event/fed-meeting/
END:VEVENT
BEGIN:VEVENT
DTSTART;VALUE=DATE:20181203
DTEND;VALUE=DATE:20181208
DTSTAMP:20260423T135701
CREATED:20181113T164837Z
LAST-MODIFIED:20181113T164928Z
UID:6962-1543795200-1544227199@makeitandkeepit.com
SUMMARY:Trading Pit Closed
DESCRIPTION:
URL:https://makeitandkeepit.com/event/trading-pit-closed-24/
END:VEVENT
BEGIN:VEVENT
DTSTART;VALUE=DATE:20181122
DTEND;VALUE=DATE:20181123
DTSTAMP:20260423T135701
CREATED:20161222T145406Z
LAST-MODIFIED:20180108T204813Z
UID:1593-1542844800-1542931199@makeitandkeepit.com
SUMMARY:Market Closed
DESCRIPTION:Happy Thanksgiving
URL:https://makeitandkeepit.com/event/market-closed-8/
END:VEVENT
BEGIN:VEVENT
DTSTART;VALUE=DATE:20181121
DTEND;VALUE=DATE:20181122
DTSTAMP:20260423T135701
CREATED:20161222T145233Z
LAST-MODIFIED:20180108T204720Z
UID:1591-1542758400-1542844799@makeitandkeepit.com
SUMMARY:Market Closes at 1EST
DESCRIPTION:
URL:https://makeitandkeepit.com/event/market-closes-at-1est/
END:VEVENT
BEGIN:VEVENT
DTSTART;VALUE=DATE:20181119
DTEND;VALUE=DATE:20181124
DTSTAMP:20260423T135701
CREATED:20180508T092247Z
LAST-MODIFIED:20181024T013304Z
UID:6556-1542585600-1543017599@makeitandkeepit.com
SUMMARY:Trading Pit Closed
DESCRIPTION:
URL:https://makeitandkeepit.com/event/trading-pit-closed-23/
END:VEVENT
BEGIN:VEVENT
DTSTART;TZID=America/New_York:20181114T140000
DTEND;TZID=America/New_York:20181114T150000
DTSTAMP:20260423T135701
CREATED:20180719T080940Z
LAST-MODIFIED:20181113T164554Z
UID:6759-1542204000-1542207600@makeitandkeepit.com
SUMMARY:CC Spyglass Q&A
DESCRIPTION:
URL:https://makeitandkeepit.com/event/cc-spyglass-qa-3/
CATEGORIES:Calendar,Q&A Webinar
END:VEVENT
BEGIN:VEVENT
DTSTART;TZID=America/New_York:20181113T140000
DTEND;TZID=America/New_York:20181113T150000
DTSTAMP:20260423T135701
CREATED:20180827T155000Z
LAST-MODIFIED:20181113T164635Z
UID:6880-1542117600-1542121200@makeitandkeepit.com
SUMMARY:Spreads Spyglass Q&A
DESCRIPTION:
URL:https://makeitandkeepit.com/event/spreads-spyglass-qa/
END:VEVENT
BEGIN:VEVENT
DTSTART;TZID=America/New_York:20181107T140000
DTEND;TZID=America/New_York:20181107T150000
DTSTAMP:20260423T135701
CREATED:20180719T080557Z
LAST-MODIFIED:20181107T142659Z
UID:6757-1541599200-1541602800@makeitandkeepit.com
SUMMARY:CC Spyglass Q&A
DESCRIPTION:
URL:https://makeitandkeepit.com/event/cc-spyglass-qa-2/
CATEGORIES:Calendar,Q&A Webinar
END:VEVENT
BEGIN:VEVENT
DTSTART;TZID=America/Los_Angeles:20181107T080000
DTEND;TZID=America/Los_Angeles:20181108T170000
DTSTAMP:20260423T135701
CREATED:20170130T132338Z
LAST-MODIFIED:20180108T210627Z
UID:2359-1541577600-1541696400@makeitandkeepit.com
SUMMARY:Fed Meeting
DESCRIPTION:
URL:https://makeitandkeepit.com/event/fed-meeting-6/
END:VEVENT
BEGIN:VEVENT
DTSTART;TZID=America/New_York:20181024T140000
DTEND;TZID=America/New_York:20181024T150000
DTSTAMP:20260423T135701
CREATED:20180802T070005Z
LAST-MODIFIED:20181024T012758Z
UID:6623-1540389600-1540393200@makeitandkeepit.com
SUMMARY:CC Spyglass Q&A
DESCRIPTION:
URL:https://makeitandkeepit.com/event/cc-spyglass-qa/
CATEGORIES:Calendar,Q&A Webinar
END:VEVENT
BEGIN:VEVENT
DTSTART;TZID=America/New_York:20181003T140000
DTEND;TZID=America/New_York:20181003T150000
DTSTAMP:20260423T135701
CREATED:20180911T175822Z
LAST-MODIFIED:20181002T150727Z
UID:6915-1538575200-1538578800@makeitandkeepit.com
SUMMARY:CC Spyglass Q&A
DESCRIPTION:
URL:https://makeitandkeepit.com/event/cc-spyglass-qa-5/
END:VEVENT
BEGIN:VEVENT
DTSTART;TZID=America/New_York:20181002T140000
DTEND;TZID=America/New_York:20181002T150000
DTSTAMP:20260423T135701
CREATED:20180911T175701Z
LAST-MODIFIED:20181002T150637Z
UID:6912-1538488800-1538492400@makeitandkeepit.com
SUMMARY:Spreads Spyglass Q&A
DESCRIPTION:
URL:https://makeitandkeepit.com/event/spreads-spyglass-qa-3/
END:VEVENT
BEGIN:VEVENT
DTSTART;TZID=America/New_York:20180925T080000
DTEND;TZID=America/New_York:20180926T170000
DTSTAMP:20260423T135701
CREATED:20170130T132452Z
LAST-MODIFIED:20180108T205513Z
UID:2361-1537862400-1537981200@makeitandkeepit.com
SUMMARY:Fed Meeting
DESCRIPTION:
URL:https://makeitandkeepit.com/event/fed-meeting-7/
END:VEVENT
BEGIN:VEVENT
DTSTART;TZID=America/New_York:20180904T140000
DTEND;TZID=America/New_York:20180904T150000
DTSTAMP:20260423T135701
CREATED:20180821T174338Z
LAST-MODIFIED:20180904T083219Z
UID:6864-1536069600-1536073200@makeitandkeepit.com
SUMMARY:Spreads Spyglass Q&A
DESCRIPTION:
URL:https://makeitandkeepit.com/event/spreads-spyglass-qa-2/
END:VEVENT
BEGIN:VEVENT
DTSTART;VALUE=DATE:20180903
DTEND;VALUE=DATE:20180904
DTSTAMP:20260423T135701
CREATED:20161222T145056Z
LAST-MODIFIED:20180108T205042Z
UID:1589-1535932800-1536019199@makeitandkeepit.com
SUMMARY:Market Closed
DESCRIPTION:
URL:https://makeitandkeepit.com/event/market-closed-7/
END:VEVENT
BEGIN:VEVENT
DTSTART;TZID=America/New_York:20180829T150000
DTEND;TZID=America/New_York:20180829T160000
DTSTAMP:20260423T135701
CREATED:20180821T174718Z
LAST-MODIFIED:20180827T155054Z
UID:6866-1535554800-1535558400@makeitandkeepit.com
SUMMARY:CC Spyglass Q&A
DESCRIPTION:
URL:https://makeitandkeepit.com/event/cc-spyglass-qa-4/
END:VEVENT
BEGIN:VEVENT
DTSTART;TZID=America/New_York:20180731T080000
DTEND;TZID=America/New_York:20180801T170000
DTSTAMP:20260423T135701
CREATED:20170130T132229Z
LAST-MODIFIED:20180108T205217Z
UID:2357-1533024000-1533142800@makeitandkeepit.com
SUMMARY:Fed Meeting
DESCRIPTION:
URL:https://makeitandkeepit.com/event/fed-meeting-5/
END:VEVENT
BEGIN:VEVENT
DTSTART;TZID=America/New_York:20180711T150000
DTEND;TZID=America/New_York:20180711T160000
DTSTAMP:20260423T135701
CREATED:20180522T011258Z
LAST-MODIFIED:20180711T142638Z
UID:6562-1531321200-1531324800@makeitandkeepit.com
SUMMARY:Covered Call Spyglass Q & A
DESCRIPTION:Class Time will be   3:00PM EST    /     2:00PM CST    /    1:00PM MST    /    12:00PM PST
URL:https://makeitandkeepit.com/event/covered-call-spyglass-q-a/
END:VEVENT
BEGIN:VEVENT
DTSTART;VALUE=DATE:20180704
DTEND;VALUE=DATE:20180705
DTSTAMP:20260423T135701
CREATED:20161222T145003Z
LAST-MODIFIED:20180108T211211Z
UID:1587-1530662400-1530748799@makeitandkeepit.com
SUMMARY:Market Closed
DESCRIPTION:
URL:https://makeitandkeepit.com/event/market-closed-6/
END:VEVENT
BEGIN:VEVENT
DTSTART;TZID=America/New_York:20180612T080000
DTEND;TZID=America/New_York:20180613T170000
DTSTAMP:20260423T135701
CREATED:20170130T132050Z
LAST-MODIFIED:20180108T210825Z
UID:2355-1528790400-1528909200@makeitandkeepit.com
SUMMARY:Fed Meeting
DESCRIPTION:
URL:https://makeitandkeepit.com/event/fed-meeting-4/
END:VEVENT
BEGIN:VEVENT
DTSTART;TZID=America/New_York:20180612T080000
DTEND;TZID=America/New_York:20180612T170000
DTSTAMP:20260423T135701
CREATED:20180605T095743Z
LAST-MODIFIED:20180605T095743Z
UID:6628-1528790400-1528822800@makeitandkeepit.com
SUMMARY:US - NOKO Summit
DESCRIPTION:
URL:https://makeitandkeepit.com/event/us-noko-summit/
END:VEVENT
BEGIN:VEVENT
DTSTART;VALUE=DATE:20180528
DTEND;VALUE=DATE:20180529
DTSTAMP:20260423T135701
CREATED:20161222T144903Z
LAST-MODIFIED:20180108T211321Z
UID:1585-1527465600-1527551999@makeitandkeepit.com
SUMMARY:Market Closed
DESCRIPTION:
URL:https://makeitandkeepit.com/event/market-closed-5/
END:VEVENT
BEGIN:VEVENT
DTSTART;TZID=America/New_York:20180501T080000
DTEND;TZID=America/New_York:20180502T140000
DTSTAMP:20260423T135701
CREATED:20170130T131933Z
LAST-MODIFIED:20180108T205837Z
UID:2353-1525161600-1525269600@makeitandkeepit.com
SUMMARY:Fed Meeting
DESCRIPTION:
URL:https://makeitandkeepit.com/event/fed-meeting-3/
END:VEVENT
BEGIN:VEVENT
DTSTART;TZID=America/New_York:20180430T080000
DTEND;TZID=America/New_York:20180430T170000
DTSTAMP:20260423T135701
CREATED:20180314T202141Z
LAST-MODIFIED:20180314T202141Z
UID:6490-1525075200-1525107600@makeitandkeepit.com
SUMMARY:Trading Pit Closed
DESCRIPTION:
URL:https://makeitandkeepit.com/event/trading-pit-closed-22/
END:VEVENT
BEGIN:VEVENT
DTSTART;TZID=America/New_York:20180427T080000
DTEND;TZID=America/New_York:20180427T170000
DTSTAMP:20260423T135701
CREATED:20180314T202045Z
LAST-MODIFIED:20180314T202045Z
UID:6488-1524816000-1524848400@makeitandkeepit.com
SUMMARY:Trading Pit Closed
DESCRIPTION:
URL:https://makeitandkeepit.com/event/trading-pit-closed-21/
END:VEVENT
BEGIN:VEVENT
DTSTART;TZID=America/New_York:20180426T150000
DTEND;TZID=America/New_York:20180426T154500
DTSTAMP:20260423T135701
CREATED:20161223T174506Z
LAST-MODIFIED:20180413T012906Z
UID:1641-1524754800-1524757500@makeitandkeepit.com
SUMMARY:Earnings - AMZN
DESCRIPTION:
URL:https://makeitandkeepit.com/event/earnings-amzn/
END:VEVENT
BEGIN:VEVENT
DTSTART;TZID=America/New_York:20180425T160000
DTEND;TZID=America/New_York:20180425T160000
DTSTAMP:20260423T135701
CREATED:20170725T082101Z
LAST-MODIFIED:20180413T012734Z
UID:3184-1524672000-1524672000@makeitandkeepit.com
SUMMARY:Earnings-CMG / FB
DESCRIPTION:
URL:https://makeitandkeepit.com/event/earnings-cmg-fb/
END:VEVENT
BEGIN:VEVENT
DTSTART;TZID=America/New_York:20180424T183000
DTEND;TZID=America/New_York:20180424T203000
DTSTAMP:20260423T135701
CREATED:20180423T182154Z
LAST-MODIFIED:20180423T182154Z
UID:6544-1524594600-1524601800@makeitandkeepit.com
SUMMARY:Spyglass - Spread Scalps
DESCRIPTION:
URL:https://makeitandkeepit.com/event/spyglass-spread-scalps/
END:VEVENT
END:VCALENDAR