BEGIN:VCALENDAR
VERSION:2.0
PRODID:-//Make It and Keep It - ECPv6.15.1.1//NONSGML v1.0//EN
CALSCALE:GREGORIAN
METHOD:PUBLISH
X-ORIGINAL-URL:https://makeitandkeepit.com
X-WR-CALDESC:Events for Make It and Keep It
REFRESH-INTERVAL;VALUE=DURATION:PT1H
X-Robots-Tag:noindex
X-PUBLISHED-TTL:PT1H
BEGIN:VTIMEZONE
TZID:America/New_York
BEGIN:DAYLIGHT
TZOFFSETFROM:-0500
TZOFFSETTO:-0400
TZNAME:EDT
DTSTART:20160313T070000
END:DAYLIGHT
BEGIN:STANDARD
TZOFFSETFROM:-0400
TZOFFSETTO:-0500
TZNAME:EST
DTSTART:20161106T060000
END:STANDARD
END:VTIMEZONE
BEGIN:VEVENT
DTSTART;TZID=America/New_York:20161205T092500
DTEND;TZID=America/New_York:20161205T103000
DTSTAMP:20260424T063320
CREATED:20161122T012856Z
LAST-MODIFIED:20161122T012856Z
UID:997-1480929900-1480933800@makeitandkeepit.com
SUMMARY:Trading Pit
DESCRIPTION:
URL:https://makeitandkeepit.com/event/trading-pit-5/
CATEGORIES:Trading Pit
END:VEVENT
BEGIN:VEVENT
DTSTART;TZID=America/New_York:20161130T092500
DTEND;TZID=America/New_York:20161130T103000
DTSTAMP:20260424T063320
CREATED:20161122T005425Z
LAST-MODIFIED:20161122T005425Z
UID:993-1480497900-1480501800@makeitandkeepit.com
SUMMARY:Trading Pit
DESCRIPTION:
URL:https://makeitandkeepit.com/event/trading-pit-3/
CATEGORIES:Trading Pit
END:VEVENT
BEGIN:VEVENT
DTSTART;TZID=America/New_York:20161129T092500
DTEND;TZID=America/New_York:20161129T103000
DTSTAMP:20260424T063320
CREATED:20161122T005331Z
LAST-MODIFIED:20161122T005331Z
UID:991-1480411500-1480415400@makeitandkeepit.com
SUMMARY:Trading Pit
DESCRIPTION:
URL:https://makeitandkeepit.com/event/trading-pit-2/
CATEGORIES:Trading Pit
END:VEVENT
BEGIN:VEVENT
DTSTART;TZID=America/New_York:20161128T092500
DTEND;TZID=America/New_York:20161128T103000
DTSTAMP:20260424T063320
CREATED:20161122T003846Z
LAST-MODIFIED:20161122T005230Z
UID:987-1480325100-1480329000@makeitandkeepit.com
SUMMARY:Trading Pit
DESCRIPTION:Trading Pit
URL:https://makeitandkeepit.com/event/trading-pit/
CATEGORIES:Trading Pit
END:VEVENT
BEGIN:VEVENT
DTSTART;TZID=America/New_York:20161122T092500
DTEND;TZID=America/New_York:20161122T103000
DTSTAMP:20260424T063320
CREATED:20161122T012802Z
LAST-MODIFIED:20161122T012802Z
UID:995-1479806700-1479810600@makeitandkeepit.com
SUMMARY:Trading Pit
DESCRIPTION:
URL:https://makeitandkeepit.com/event/trading-pit-4/
CATEGORIES:Trading Pit
END:VEVENT
END:VCALENDAR